BEGIN:VCALENDAR
VERSION:2.0
PRODID:-//eventon.com NONSGML v1.0//EN
CALSCALE:GREGORIAN
METHOD:PUBLISH
BEGIN:VEVENT
UID:69e842b7aa17b
DTSTAMP:20260422T033831Z
DTSTART:20251231
DTEND:20260101
LOCATION:A.R.T. 23 Eastways\,  Eastways\,  Witham\,  Essex\,  CM8 3YQ
SUMMARY:IPC-A-600 CIT/CIS Certified Training
DESCRIPTION:IPC-A-600 CIT/CIS Certified Training IPC-A-600 is the definitiv
 e Training for printed board acceptability. IPC-A-600 Training incorporates
  photographs and illustrations of the target\,  acceptable and nonconformin
 g conditions that are either internally or externally observable on bare pr
 inted boards. The training synchronizes criteria to the acceptability requi
 rements expressed in IPC-6012 and IPC-6013.[..]\nhttps://rework.co.uk/blog/
 events/ipc-a-600/
URL:https://rework.co.uk/blog/events/ipc-a-600/
END:VEVENT
END:VCALENDAR