BEGIN:VCALENDAR
VERSION:2.0
PRODID:-//eventon.com NONSGML v1.0//EN
CALSCALE:GREGORIAN
METHOD:PUBLISH
BEGIN:VEVENT
UID:69e865cf26b3a
DTSTAMP:20260422T060815Z
DTSTART:20260505
DTEND:20260506
LOCATION:A.R.T. 23 Eastways\,  Eastways\,  Witham\,  Essex\,  CM8 3YQ
SUMMARY:IPC 7711/7721 CIT Re-Certification Certified IPC Trainer
DESCRIPTION:IPC 7711/7721 CIT Re-Certification Certified IPC Trainer IPC 77
 11/7721 Rework\,  Modification and Repair of Electronic Assemblies. Incorpo
 rating both theory and practical training for Repair and Rework of Electron
 ic Assemblies and Printed Circuit Boards. Including installation and remova
 l of components. Pad and track repair. Applicable to both Lead and Lead Fre
 e[..]\nhttps://rework.co.uk/blog/events/ipc-7711-7721-certified-re-certific
 ation-trainer-training/var/ri-4.l-L1
URL:https://rework.co.uk/blog/events/ipc-7711-7721-certified-re-certification-trainer-training/var/ri-4.l-L1
END:VEVENT
END:VCALENDAR