BEGIN:VCALENDAR
VERSION:2.0
PRODID:-//eventon.com NONSGML v1.0//EN
CALSCALE:GREGORIAN
METHOD:PUBLISH
BEGIN:VEVENT
UID:69e86445da7e0
DTSTAMP:20260422T060141Z
DTSTART:20260605
DTEND:20260606
LOCATION:A.R.T. 23 Eastways\,  Eastways\,  Witham\,  Essex\,  CM8 3YQ
SUMMARY:IPC-A-620 Hands on Practical CIT/CIS Training
DESCRIPTION:IPC-A-620 Hands on Practical CIT/CIS Training The IPC/WHMA-A-62
 0 optional hands-on training has been developed to help users become more f
 amiliar with the basics of cable and wire harness assembly and fabrication.
  The Hands-on module is optional for the CIT and CIS. If a CIT wishes to te
 ach the hands-on projects\, [..]\nhttps://rework.co.uk/blog/events/ipc-a-62
 0-hands-on-practical-training/var/ri-10.l-L1
URL:https://rework.co.uk/blog/events/ipc-a-620-hands-on-practical-training/var/ri-10.l-L1
END:VEVENT
END:VCALENDAR