BEGIN:VCALENDAR
VERSION:2.0
PRODID:-//eventon.com NONSGML v1.0//EN
CALSCALE:GREGORIAN
METHOD:PUBLISH
BEGIN:VEVENT
UID:69e8469462dd5
DTSTAMP:20260422T035500Z
DTSTART:20251231
DTEND:20260101
LOCATION:A.R.T. 23 Eastways\,  Eastways\,  Witham\,  Essex\,  CM8 3YQ
SUMMARY:IPC/WHMA-A-620 CIS Certified IPC Specialist Training
DESCRIPTION:IPC/WHMA-A-620 CIS Certified IPC Specialist Training IPC/WHMA-A
 -620 Requirements and Acceptance for Cable and Wire Harness Assembly Traini
 ng. The only industry consensus standard training for Cable Wire and Harnes
 s Assemblies. IPC/WHMA-A-620 Training Includes materials\,  methods\,  test
 s and acceptance criteria for producing crimped\,  mechanically secured and
  soldered interconnections and the related assembly[..]\nhttps://rework.co.
 uk/blog/events/ipc-whma-a-620-cis-certified-ipc-specialist-training/
URL:https://rework.co.uk/blog/events/ipc-whma-a-620-cis-certified-ipc-specialist-training/
END:VEVENT
END:VCALENDAR