BEGIN:VCALENDAR
VERSION:2.0
PRODID:-//eventon.com NONSGML v1.0//EN
CALSCALE:GREGORIAN
METHOD:PUBLISH
BEGIN:VEVENT
UID:69e86450e8b9a
DTSTAMP:20260422T060152Z
DTSTART:20260814
DTEND:20260815
LOCATION:A.R.T. 23 Eastways\,  Eastways\,  Witham\,  Essex\,  CM8 3YQ
SUMMARY:IPC J-STD-001 Space Addendum Training CIT/CIS
DESCRIPTION:IPC J-STD-001 Space Addendum Training CIT/CIS The IPC-J-STD-001
 S Space Addendum supplements or replaces specifically identified requiremen
 ts of IPC J-STD-001 for soldered electrical and electronic assemblies that 
 must survive the vibration and thermal cyclic environments of getting to an
 d operating in space and military applications. Click here for further info
 rmation on[..]\nhttps://rework.co.uk/blog/events/ipc-j-std-001-space-addend
 um-training-cit-cis/var/ri-6.l-L1
URL:https://rework.co.uk/blog/events/ipc-j-std-001-space-addendum-training-cit-cis/var/ri-6.l-L1
END:VEVENT
END:VCALENDAR