BEGIN:VCALENDAR
VERSION:2.0
PRODID:-//eventon.com NONSGML v1.0//EN
CALSCALE:GREGORIAN
METHOD:PUBLISH
BEGIN:VEVENT
UID:69e865031712e
DTSTAMP:20260422T060451Z
DTSTART:20260610T000000Z
DTEND:20260611T220000Z
LOCATION:A.R.T. 23 Eastways\,  Eastways\,  Witham\,  Essex\,  CM8 3YQ
SUMMARY:J-STD-001 CIT Re-Certification Certified IPC Trainer Training
DESCRIPTION:J-STD-001 CIT Re-Certification Certified IPC Trainer Training I
 PC-J-STD-001 Requirements for Soldered Electrical and Electronic Assemblies
 . The sole industry consensus standard training covering electronic assembl
 ies\,  Soldering\,  J-STD-001 is recognized globally for its criteria on so
 ldering processes and materials. Updated with participants from 18 countrie
 s providing input and expertise\,  this theory and[..]\nhttps://rework.co.u
 k/blog/events/j-std-001-cit-re-certification-certified-ipc-trainer-training
 /var/ri-5.l-L1
URL:https://rework.co.uk/blog/events/j-std-001-cit-re-certification-certified-ipc-trainer-training/var/ri-5.l-L1
END:VEVENT
END:VCALENDAR