BEGIN:VCALENDAR
VERSION:2.0
PRODID:-//eventon.com NONSGML v1.0//EN
CALSCALE:GREGORIAN
METHOD:PUBLISH
BEGIN:VEVENT
UID:69e84667111a8
DTSTAMP:20260422T035415Z
DTSTART:20251231
DTEND:20260101
LOCATION:A.R.T. 23 Eastways\,  Eastways\,  Witham\,  Essex\,  CM8 3YQ
SUMMARY:J-STD-001 CIT Certified IPC Trainer Training
DESCRIPTION:J-STD-001 CIT Certified IPC Trainer Training IPC-J-STD-001 Requ
 irements for Soldered Electrical and Electronic Assemblies. The sole indust
 ry consensus standard training covering electronic assemblies\,  Soldering\
 ,  J-STD-001 is recognized globally for its criteria on soldering processes
  and materials. Updated with participants from 18 countries providing input
  and expertise\,  this theory and practical[..]\nhttps://rework.co.uk/blog/
 events/j-std-001-cit-certified-ipc-trainer-training/
URL:https://rework.co.uk/blog/events/j-std-001-cit-certified-ipc-trainer-training/
END:VEVENT
END:VCALENDAR