BEGIN:VCALENDAR
VERSION:2.0
PRODID:-//eventon.com NONSGML v1.0//EN
CALSCALE:GREGORIAN
METHOD:PUBLISH
BEGIN:VEVENT
UID:69e84694c6a8e
DTSTAMP:20260422T035500Z
DTSTART:20251231
DTEND:20260101
LOCATION:A.R.T. 23 Eastways\,  Eastways\,  Witham\,  Essex\,  CM8 3YQ
SUMMARY:IPC-A-610 CIT Re-Certification Certified IPC Trainer Training
DESCRIPTION:IPC-A-610 CIT Re-Certification Certified IPC Trainer Training I
 PC-A-610 Acceptability of Electronic Assemblies. IPC-A-610 is the most wide
 ly used industry consensus electronics assembly Training in the world defin
 ing Accept and Defect criteria. A must for all quality assurance and assemb
 ly departments\,  IPC-A-610 Training illustrates industry-accepted criteria
  for electronics assemblies using theory[..]\nhttps://rework.co.uk/blog/eve
 nts/ipc-a-610-cit-re-certification-certified-ipc-trainer-training/
URL:https://rework.co.uk/blog/events/ipc-a-610-cit-re-certification-certified-ipc-trainer-training/
END:VEVENT
END:VCALENDAR