BEGIN:VCALENDAR
VERSION:2.0
PRODID:-//eventon.com NONSGML v1.0//EN
CALSCALE:GREGORIAN
METHOD:PUBLISH
BEGIN:VEVENT
UID:69e842b7ad16d
DTSTAMP:20260422T033831Z
DTSTART:20251231
DTEND:20260101
LOCATION:A.R.T. 23 Eastways\,  Eastways\,  Witham\,  Essex\,  CM8 3YQ
SUMMARY:IPC-A-610 CIT Certified IPC Trainer Training
DESCRIPTION:IPC-A-610 CIT Certified IPC Trainer Training IPC-A-610 Acceptab
 ility of Electronic Assemblies. IPC-A-610 is the most widely used industry 
 consensus electronics assembly Training in the world defining Accept and De
 fect criteria. A must for all quality assurance and assembly departments\, 
  IPC-A-610 Training illustrates industry-accepted criteria for electronics 
 assemblies using theory information\, [..]\nhttps://rework.co.uk/blog/event
 s/ipc-july/
URL:https://rework.co.uk/blog/events/ipc-july/
END:VEVENT
END:VCALENDAR